BEGIN:VCALENDAR
VERSION:2.0
PRODID:-//hacksw/handcal//NONSGML v1.0//EN
BEGIN:VEVENT
UID:9225
DTSTART;VALUE=DATE:20171103
URL;VALUE=URI:ohschonhell.at/?page_id=19333
SUMMARY:Push 4 DnB pres.: Deep Impact w/ Fre4knc
LOCATION:PRIME
END:VEVENT
END:VCALENDAR


