BEGIN:VCALENDAR
VERSION:2.0
PRODID:-//hacksw/handcal//NONSGML v1.0//EN
BEGIN:VEVENT
UID:9233
DTSTART;VALUE=DATE:20171027
URL;VALUE=URI:ohschonhell.at/?page_id=19351
SUMMARY:Freud &amp\; Taumel im Horst mit Sasha Carassi
LOCATION:HORST
END:VEVENT
END:VCALENDAR


