BEGIN:VCALENDAR
VERSION:2.0
PRODID:-//hacksw/handcal//NONSGML v1.0//EN
BEGIN:VEVENT
UID:9236
DTSTART;VALUE=DATE:20171025
URL;VALUE=URI:ohschonhell.at/?page_id=19357
SUMMARY:Horst &amp\; Hannelore mit Fritz Kalkbrenner
LOCATION:HORST
END:VEVENT
END:VCALENDAR


