BEGIN:VCALENDAR
VERSION:2.0
PRODID:-//hacksw/handcal//NONSGML v1.0//EN
BEGIN:VEVENT
UID:9238
DTSTART;VALUE=DATE:20171021
URL;VALUE=URI:ohschonhell.at/?page_id=19361
SUMMARY:Localize! Hudi
LOCATION:SASS
END:VEVENT
END:VCALENDAR


