BEGIN:VCALENDAR
VERSION:2.0
PRODID:-//hacksw/handcal//NONSGML v1.0//EN
BEGIN:VEVENT
UID:9240
DTSTART;VALUE=DATE:20171019
URL;VALUE=URI:ohschonhell.at/?page_id=19365
SUMMARY:Sub.set x Therese Haller
LOCATION:Super Unusual Beings
END:VEVENT
END:VCALENDAR


