BEGIN:VCALENDAR
VERSION:2.0
PRODID:-//hacksw/handcal//NONSGML v1.0//EN
BEGIN:VEVENT
UID:9250
DTSTART;VALUE=DATE:20171031
URL;VALUE=URI:ohschonhell.at/?page_id=19394
SUMMARY:Basstrace 027 - System Session - ∆ [Content &amp\; Samba]
LOCATION:VENSTER 99
END:VEVENT
END:VCALENDAR


