BEGIN:VCALENDAR
VERSION:2.0
PRODID:-//hacksw/handcal//NONSGML v1.0//EN
BEGIN:VEVENT
UID:9263
DTSTART;VALUE=DATE:20171025
URL;VALUE=URI:ohschonhell.at/?page_id=19420
SUMMARY:Abendrot
LOCATION:Spark
END:VEVENT
END:VCALENDAR


