BEGIN:VCALENDAR
VERSION:2.0
PRODID:-//hacksw/handcal//NONSGML v1.0//EN
BEGIN:VEVENT
UID:9266
DTSTART;VALUE=DATE:20171019
URL;VALUE=URI:ohschonhell.at/?page_id=19426
SUMMARY:Herr Donner &amp\; die Lerche mit Catz Flatz - Die Donnerband
LOCATION:Herr Donner und die Lerche
END:VEVENT
END:VCALENDAR


