BEGIN:VCALENDAR
VERSION:2.0
PRODID:-//hacksw/handcal//NONSGML v1.0//EN
BEGIN:VEVENT
UID:927
DTSTART;VALUE=DATE:20140425
URL;VALUE=URI:ohschonhell.at/?page_id=3393
SUMMARY:One Day in Vienna
LOCATION:WUK
END:VEVENT
END:VCALENDAR


