BEGIN:VCALENDAR
VERSION:2.0
PRODID:-//hacksw/handcal//NONSGML v1.0//EN
BEGIN:VEVENT
UID:9270
DTSTART;VALUE=DATE:20171117
URL;VALUE=URI:ohschonhell.at/?page_id=19436
SUMMARY:Hekura Connections
LOCATION:Super Unusual Beings
END:VEVENT
END:VCALENDAR


