BEGIN:VCALENDAR
VERSION:2.0
PRODID:-//hacksw/handcal//NONSGML v1.0//EN
BEGIN:VEVENT
UID:9272
DTSTART;VALUE=DATE:20171111
URL;VALUE=URI:ohschonhell.at/?page_id=19440
SUMMARY:Coming HOME # 5 /w Dorfmeister\, Megablast Bday Liveset\, Gü - mix
LOCATION:ROTE BAR
END:VEVENT
END:VCALENDAR


