BEGIN:VCALENDAR
VERSION:2.0
PRODID:-//hacksw/handcal//NONSGML v1.0//EN
BEGIN:VEVENT
UID:9277
DTSTART;VALUE=DATE:20171103
URL;VALUE=URI:ohschonhell.at/?page_id=19450
SUMMARY:10 :membrane: 10
LOCATION:AU
END:VEVENT
END:VCALENDAR


