BEGIN:VCALENDAR
VERSION:2.0
PRODID:-//hacksw/handcal//NONSGML v1.0//EN
BEGIN:VEVENT
UID:9289
DTSTART;VALUE=DATE:20171117
URL;VALUE=URI:ohschonhell.at/?page_id=19481
SUMMARY:Meuterei x Akt der Auflehnung
LOCATION:Meuterei
END:VEVENT
END:VCALENDAR


