BEGIN:VCALENDAR
VERSION:2.0
PRODID:-//hacksw/handcal//NONSGML v1.0//EN
BEGIN:VEVENT
UID:929
DTSTART;VALUE=DATE:20140321
URL;VALUE=URI:ohschonhell.at/?page_id=3395
SUMMARY:900. Swound Sound Recording Session ↑↑ Oben ↑↑
LOCATION:OBEN
END:VEVENT
END:VCALENDAR


