BEGIN:VCALENDAR
VERSION:2.0
PRODID:-//hacksw/handcal//NONSGML v1.0//EN
BEGIN:VEVENT
UID:9290
DTSTART;VALUE=DATE:20171117
URL;VALUE=URI:ohschonhell.at/?page_id=19483
SUMMARY:Löwenzahn #7 meets 30+3
LOCATION:Kramladen
END:VEVENT
END:VCALENDAR


