BEGIN:VCALENDAR
VERSION:2.0
PRODID:-//hacksw/handcal//NONSGML v1.0//EN
BEGIN:VEVENT
UID:9297
DTSTART;VALUE=DATE:20171104
URL;VALUE=URI:ohschonhell.at/?page_id=19497
SUMMARY:Pizza Randale Opening mit - Vihanna - und Lil Promise
LOCATION:Pizza Randale
END:VEVENT
END:VCALENDAR


