BEGIN:VCALENDAR
VERSION:2.0
PRODID:-//hacksw/handcal//NONSGML v1.0//EN
BEGIN:VEVENT
UID:9300
DTSTART;VALUE=DATE:20171104
URL;VALUE=URI:ohschonhell.at/?page_id=19503
SUMMARY:Afterhour MorgenKlang - Vinyl Session - Oldschool Techno Classic
LOCATION:MorgenKlang
END:VEVENT
END:VCALENDAR


