BEGIN:VCALENDAR
VERSION:2.0
PRODID:-//hacksw/handcal//NONSGML v1.0//EN
BEGIN:VEVENT
UID:9305
DTSTART;VALUE=DATE:20171102
URL;VALUE=URI:ohschonhell.at/?page_id=19513
SUMMARY:Herr Donner und die Lerche - Die Donnerband
LOCATION:Herr Donner und die Lerche
END:VEVENT
END:VCALENDAR


