BEGIN:VCALENDAR
VERSION:2.0
PRODID:-//hacksw/handcal//NONSGML v1.0//EN
BEGIN:VEVENT
UID:9323
DTSTART;VALUE=DATE:20171109
URL;VALUE=URI:ohschonhell.at/?page_id=19558
SUMMARY:Herr Donner und die Lerche - Disco Bingo - Jeden Donnerstag
LOCATION:Herr Donner und die Lerche
END:VEVENT
END:VCALENDAR


