BEGIN:VCALENDAR
VERSION:2.0
PRODID:-//hacksw/handcal//NONSGML v1.0//EN
BEGIN:VEVENT
UID:9327
DTSTART;VALUE=DATE:20171201
URL;VALUE=URI:ohschonhell.at/?page_id=19566
SUMMARY:Before The Night w/ Simolebon\, Lee Stevens &amp\; Rubicon
LOCATION:Spark
END:VEVENT
END:VCALENDAR


