BEGIN:VCALENDAR
VERSION:2.0
PRODID:-//hacksw/handcal//NONSGML v1.0//EN
BEGIN:VEVENT
UID:935
DTSTART;VALUE=DATE:20140328
URL;VALUE=URI:ohschonhell.at/?page_id=3401
SUMMARY:Superfly Birthday Clubnight 2014 - 28. März
LOCATION:OTTAKRINGER BRAUEREI
END:VEVENT
END:VCALENDAR


