BEGIN:VCALENDAR
VERSION:2.0
PRODID:-//hacksw/handcal//NONSGML v1.0//EN
BEGIN:VEVENT
UID:9368
DTSTART;VALUE=DATE:20171111
URL;VALUE=URI:ohschonhell.at/?page_id=19661
SUMMARY:The Square² w/ Moriz Hutmacher (Funkroom)
LOCATION:Spark
END:VEVENT
END:VCALENDAR


