BEGIN:VCALENDAR
VERSION:2.0
PRODID:-//hacksw/handcal//NONSGML v1.0//EN
BEGIN:VEVENT
UID:9369
DTSTART;VALUE=DATE:20171111
URL;VALUE=URI:ohschonhell.at/?page_id=19663
SUMMARY:F!mainstream // [afterhours]
LOCATION:PRIME
END:VEVENT
END:VCALENDAR


