BEGIN:VCALENDAR
VERSION:2.0
PRODID:-//hacksw/handcal//NONSGML v1.0//EN
BEGIN:VEVENT
UID:937
DTSTART;VALUE=DATE:20140326
URL;VALUE=URI:ohschonhell.at/?page_id=3403
SUMMARY:mixtapes from mars feat. laut love
LOCATION:ELEKTRO GÖNNER
END:VEVENT
END:VCALENDAR


