BEGIN:VCALENDAR
VERSION:2.0
PRODID:-//hacksw/handcal//NONSGML v1.0//EN
BEGIN:VEVENT
UID:9394
DTSTART;VALUE=DATE:20171117
URL;VALUE=URI:ohschonhell.at/?page_id=19718
SUMMARY:Lo-ve-Fi w/ Adryiano (support: DOS)
LOCATION:PRIME
END:VEVENT
END:VCALENDAR


