BEGIN:VCALENDAR
VERSION:2.0
PRODID:-//hacksw/handcal//NONSGML v1.0//EN
BEGIN:VEVENT
UID:9396
DTSTART;VALUE=DATE:20171125
URL;VALUE=URI:ohschonhell.at/?page_id=19726
SUMMARY:OMG goes HORST – The Super Special
LOCATION:HORST
END:VEVENT
END:VCALENDAR


