BEGIN:VCALENDAR
VERSION:2.0
PRODID:-//hacksw/handcal//NONSGML v1.0//EN
BEGIN:VEVENT
UID:9397
DTSTART;VALUE=DATE:20171117
URL;VALUE=URI:ohschonhell.at/?page_id=19728
SUMMARY:Horst &amp\; Hannelore mit Wankelmut &amp\; David Jach
LOCATION:HORST
END:VEVENT
END:VCALENDAR


