BEGIN:VCALENDAR
VERSION:2.0
PRODID:-//hacksw/handcal//NONSGML v1.0//EN
BEGIN:VEVENT
UID:940
DTSTART;VALUE=DATE:20140320
URL;VALUE=URI:ohschonhell.at/?page_id=3406
SUMMARY:ELEKTRAE HIT LIST
LOCATION:ELEKTRO GÖNNER
END:VEVENT
END:VCALENDAR


