BEGIN:VCALENDAR
VERSION:2.0
PRODID:-//hacksw/handcal//NONSGML v1.0//EN
BEGIN:VEVENT
UID:9418
DTSTART;VALUE=DATE:20171207
URL;VALUE=URI:ohschonhell.at/?page_id=19788
SUMMARY:Basstrace 028 - System Session - Leon Switch\, Dubape\, Thylo
LOCATION:VENSTER 99
END:VEVENT
END:VCALENDAR


