BEGIN:VCALENDAR
VERSION:2.0
PRODID:-//hacksw/handcal//NONSGML v1.0//EN
BEGIN:VEVENT
UID:9430
DTSTART;VALUE=DATE:20171201
URL;VALUE=URI:ohschonhell.at/?page_id=19817
SUMMARY:Viennalizm | level42
LOCATION:Kramladen
END:VEVENT
END:VCALENDAR


