BEGIN:VCALENDAR
VERSION:2.0
PRODID:-//hacksw/handcal//NONSGML v1.0//EN
BEGIN:VEVENT
UID:9437
DTSTART;VALUE=DATE:20171124
URL;VALUE=URI:ohschonhell.at/?page_id=19845
SUMMARY:FLIEHKRAFT 006
LOCATION:OPERA CLUB
END:VEVENT
END:VCALENDAR


