BEGIN:VCALENDAR
VERSION:2.0
PRODID:-//hacksw/handcal//NONSGML v1.0//EN
BEGIN:VEVENT
UID:9444
DTSTART;VALUE=DATE:20171123
URL;VALUE=URI:ohschonhell.at/?page_id=19864
SUMMARY:Herr Donner und die Lerche - Club Activity
LOCATION:Herr Donner und die Lerche
END:VEVENT
END:VCALENDAR


