BEGIN:VCALENDAR
VERSION:2.0
PRODID:-//hacksw/handcal//NONSGML v1.0//EN
BEGIN:VEVENT
UID:9448
DTSTART;VALUE=DATE:20171209
URL;VALUE=URI:ohschonhell.at/?page_id=19876
SUMMARY:Alles Paletti #2 //Camera Club
LOCATION:CAMERA CLUB
END:VEVENT
END:VCALENDAR


