BEGIN:VCALENDAR
VERSION:2.0
PRODID:-//hacksw/handcal//NONSGML v1.0//EN
BEGIN:VEVENT
UID:9449
DTSTART;VALUE=DATE:20171204
URL;VALUE=URI:ohschonhell.at/?page_id=19878
SUMMARY:Tonight - Bassline DnB Mondays reopening - Prime Club
LOCATION:PRIME
END:VEVENT
END:VCALENDAR


