BEGIN:VCALENDAR
VERSION:2.0
PRODID:-//hacksw/handcal//NONSGML v1.0//EN
BEGIN:VEVENT
UID:9450
DTSTART;VALUE=DATE:20171231
URL;VALUE=URI:ohschonhell.at/?page_id=19880
SUMMARY:New YEARS PSY BASE
LOCATION:Paradox LIVE
END:VEVENT
END:VCALENDAR


