BEGIN:VCALENDAR
VERSION:2.0
PRODID:-//hacksw/handcal//NONSGML v1.0//EN
BEGIN:VEVENT
UID:9468
DTSTART;VALUE=DATE:20171215
URL;VALUE=URI:ohschonhell.at/?page_id=19921
SUMMARY:Down. mit Mattmosphere
LOCATION:Kramladen
END:VEVENT
END:VCALENDAR


