BEGIN:VCALENDAR
VERSION:2.0
PRODID:-//hacksw/handcal//NONSGML v1.0//EN
BEGIN:VEVENT
UID:9479
DTSTART;VALUE=DATE:20171216
URL;VALUE=URI:ohschonhell.at/?page_id=19947
SUMMARY:Chromolog
LOCATION:CAMERA CLUB
END:VEVENT
END:VCALENDAR


