BEGIN:VCALENDAR
VERSION:2.0
PRODID:-//hacksw/handcal//NONSGML v1.0//EN
BEGIN:VEVENT
UID:9480
DTSTART;VALUE=DATE:20171209
URL;VALUE=URI:ohschonhell.at/?page_id=19949
SUMMARY:Apropos /° Journey to Tarab | Anniversary Afterhour Day 2
LOCATION:FLEX CAFE
END:VEVENT
END:VCALENDAR


