BEGIN:VCALENDAR
VERSION:2.0
PRODID:-//hacksw/handcal//NONSGML v1.0//EN
BEGIN:VEVENT
UID:9493
DTSTART;VALUE=DATE:20171211
URL;VALUE=URI:ohschonhell.at/?page_id=19977
SUMMARY:360° Drum&#039\;n&#039\;Bass
LOCATION:CAMERA CLUB
END:VEVENT
END:VCALENDAR


