BEGIN:VCALENDAR
VERSION:2.0
PRODID:-//hacksw/handcal//NONSGML v1.0//EN
BEGIN:VEVENT
UID:9495
DTSTART;VALUE=DATE:20171208
URL;VALUE=URI:ohschonhell.at/?page_id=19981
SUMMARY:Shutdown#23 - Shenron meets Klub Sir3ne &amp\; CWV
LOCATION:FLEX
END:VEVENT
END:VCALENDAR


