BEGIN:VCALENDAR
VERSION:2.0
PRODID:-//hacksw/handcal//NONSGML v1.0//EN
BEGIN:VEVENT
UID:9496
DTSTART;VALUE=DATE:20171222
URL;VALUE=URI:ohschonhell.at/?page_id=19983
SUMMARY:Kollision - A Birthday Bash
LOCATION:PRIME
END:VEVENT
END:VCALENDAR


