BEGIN:VCALENDAR
VERSION:2.0
PRODID:-//hacksw/handcal//NONSGML v1.0//EN
BEGIN:VEVENT
UID:9497
DTSTART;VALUE=DATE:20171218
URL;VALUE=URI:ohschonhell.at/?page_id=19985
SUMMARY:18 Dez. - Bassline DnB Mondays feat. Myslo Crue (CZ) - Prime
LOCATION:PRIME
END:VEVENT
END:VCALENDAR


