BEGIN:VCALENDAR
VERSION:2.0
PRODID:-//hacksw/handcal//NONSGML v1.0//EN
BEGIN:VEVENT
UID:952
DTSTART;VALUE=DATE:20140326
URL;VALUE=URI:ohschonhell.at/?page_id=3418
SUMMARY:GROOVE SHAKER im KIOSK
LOCATION:KIOSK SCHLEIFMÜHLGASSE
END:VEVENT
END:VCALENDAR


