BEGIN:VCALENDAR
VERSION:2.0
PRODID:-//hacksw/handcal//NONSGML v1.0//EN
BEGIN:VEVENT
UID:953
DTSTART;VALUE=DATE:20140418
URL;VALUE=URI:ohschonhell.at/?page_id=3419
SUMMARY:Salopp! Johanson &amp\; Semf - Leave Me (EP Release)
LOCATION:BRUT
END:VEVENT
END:VCALENDAR


