BEGIN:VCALENDAR
VERSION:2.0
PRODID:-//hacksw/handcal//NONSGML v1.0//EN
BEGIN:VEVENT
UID:9538
DTSTART;VALUE=DATE:20171209
URL;VALUE=URI:ohschonhell.at/?page_id=20079
SUMMARY:Thomas and friends - Extended w/ Eddie Richards
LOCATION:SASS
END:VEVENT
END:VCALENDAR


