BEGIN:VCALENDAR
VERSION:2.0
PRODID:-//hacksw/handcal//NONSGML v1.0//EN
BEGIN:VEVENT
UID:9544
DTSTART;VALUE=DATE:20171215
URL;VALUE=URI:ohschonhell.at/?page_id=20091
SUMMARY:FLIEHKRAFT007: SPACE DISCO
LOCATION:DUAL
END:VEVENT
END:VCALENDAR


