BEGIN:VCALENDAR
VERSION:2.0
PRODID:-//hacksw/handcal//NONSGML v1.0//EN
BEGIN:VEVENT
UID:9545
DTSTART;VALUE=DATE:20171215
URL;VALUE=URI:ohschonhell.at/?page_id=20093
SUMMARY:Deep in Trance - Insane Creatures live
LOCATION:PRIME
END:VEVENT
END:VCALENDAR


