BEGIN:VCALENDAR
VERSION:2.0
PRODID:-//hacksw/handcal//NONSGML v1.0//EN
BEGIN:VEVENT
UID:9549
DTSTART;VALUE=DATE:20171207
URL;VALUE=URI:ohschonhell.at/?page_id=20101
SUMMARY:LHF _ marina pizza party
LOCATION:Pizza Randale
END:VEVENT
END:VCALENDAR


