BEGIN:VCALENDAR
VERSION:2.0
PRODID:-//hacksw/handcal//NONSGML v1.0//EN
BEGIN:VEVENT
UID:959
DTSTART;VALUE=DATE:20140422
URL;VALUE=URI:ohschonhell.at/?page_id=3425
SUMMARY:MYNT SPECIAL w/ AMINE EDGE &amp\; DANCE
LOCATION:FLEX
END:VEVENT
END:VCALENDAR


