BEGIN:VCALENDAR
VERSION:2.0
PRODID:-//hacksw/handcal//NONSGML v1.0//EN
BEGIN:VEVENT
UID:962
DTSTART;VALUE=DATE:20140404
URL;VALUE=URI:ohschonhell.at/?page_id=3428
SUMMARY:FM4 TANZMITMIR ⬆︎OBEN⬆︎
LOCATION:OBEN
END:VEVENT
END:VCALENDAR


